BEGIN:VCALENDAR
VERSION:2.0
PRODID:icalendar-ruby
CALSCALE:GREGORIAN
METHOD:PUBLISH
BEGIN:VEVENT
DTSTAMP:20260422T222319Z
UID:6-654171@unitycovenant.org
DTSTART:20240721T150000Z
DTEND:20240721T170000Z
CLASS:PUBLIC
CREATED:20260422T151518
DESCRIPTION:
LAST-MODIFIED:20260422T151518
LOCATION:
SUMMARY:Worship
URL;VALUE=URI:https://unitycovenant.org/events/worship/2024-07-21
ATTACH;FILENAME=238A6471.jpg;FMTTYPE=image/jpeg:https://dq5pwpg1q8ru0.cloud
 front.net/2024/12/20/04/28/08/35e72900-06d6-46c6-bb84-5533ea3a7376/238A647
 1.jpg
END:VEVENT
END:VCALENDAR
